BEGIN:VCALENDAR
VERSION:2.0
PRODID:-//ChamberMaster//Event Calendar 2.0//EN
METHOD:PUBLISH
X-PUBLISHED-TTL:P3D
REFRESH-INTERVAL:P3D
CALSCALE:GREGORIAN
BEGIN:VEVENT
DTSTART:20180908T133000Z
DTEND:20180908T170000Z
X-MICROSOFT-CDO-ALLDAYEVENT:FALSE
SUMMARY:STEAM Saturday at Weslaco Museum
DESCRIPTION:The Weslaco Museum is excited to announce our latest S.T.E.A.M. Saturday! We're putting together a whole morning for children to learn about food chains and the basics of ecology - all while exploring\, creating\, and competing! Best of all\, the Valley Nature Center - Weslaco's own secret garden - will provide a fantastic presentation on local creatures and their part in the food chain!\n\n\n\nHere's what you need to know:\n\n- Saturday\, September 8th\, from 9:00am to 12:00pm\n\n- Sign-in begins at 8:30am\n\n- Geared for children ages 7-10\n\n- Admission is $10 per child\n\n- Breakfast and a snack are included\n\n- Make sure kids wear sturdy shoes!\n\n\n\nTo sign up a child for S.T.E.A.M. Saturday\, follow this link: https://docs.google.com/forms/d/e/1FAIpQLSdRD6iHn_K0Jlj4wEnVgyF_r1YEvo-AQXIWtCCfjmjvmVB4GA/viewform\n\n\n\nIf you have any questions\, send an email to Director@WeslacoMuseum.org or call us at (956) 968-9142.
X-ALT-DESC;FMTTYPE=text/html:<span>The Weslaco Museum is excited to announce our latest S.T.E.A.M. Saturday! We&#39\;re putting together a whole morning for children to learn about food chains and the basics of ecology - all while exploring\, creating\, and competing! Best of all\, the <a href="https://www.facebook.com/valleynaturecenter/" target="_blank">Valley Nature Center</a> - Weslaco&#39\;s own secret garden - will provide a fantastic presentation on local creatures and their part in the food chain!<br />\n<br />\nHere&#39\;s what you need to know:<br />\n- Saturday\, September 8th\, from 9:00am to 12:00pm<br />\n- Sign-in begins at 8:30am<br />\n- Geared for children ages 7-10<br />\n- Admission is $10 per child<br />\n- Breakfast and a snack are included<br />\n- Make sure kids wear sturdy shoes!<br />\n<br />\nTo sign up a child for S.T.E.A.M. Saturday\, follow this link: <a data-lynx-mode="hover" data-lynx-uri="https://l.facebook.com/l.php?u=https%3A%2F%2Fdocs.google.com%2Fforms%2Fd%2Fe%2F1FAIpQLSdRD6iHn_K0Jlj4wEnVgyF_r1YEvo-AQXIWtCCfjmjvmVB4GA%2Fviewform&amp\;h=AT3a8VUCO0RgzHEC112W_1bXS20WFmD6methdXYlUNHbuSOxn0-W0sd-tvfCXTjjTJI8r5Ek4-BQ3lfwDK-MFR_9JfNn_xYezm3EFyEUhhciSAih-EfzgFH9HXrTocx0Tg" href="https://docs.google.com/forms/d/e/1FAIpQLSdRD6iHn_K0Jlj4wEnVgyF_r1YEvo-AQXIWtCCfjmjvmVB4GA/viewform" rel="nofollow noopener" target="_blank">https://docs.google.com/forms/d/e/1FAIpQLSdRD6iHn_K0Jlj4wEnVgyF_r1YEvo-AQXIWtCCfjmjvmVB4GA/viewform</a><br />\n<br />\nIf you have any questions\, send an email to Director@WeslacoMuseum.org or call us at (956) 968-9142.</span>
LOCATION:Weslaco Museum 500 S. Texas Blvd.
UID:e.1244.16968
SEQUENCE:3
DTSTAMP:20260421T005536Z
URL:https://business.weslaco.com/events/details/steam-saturday-at-weslaco-museum-16968
END:VEVENT

END:VCALENDAR
