BEGIN:VCALENDAR
VERSION:2.0
PRODID:-//ChamberMaster//Event Calendar 2.0//EN
METHOD:PUBLISH
X-PUBLISHED-TTL:P3D
REFRESH-INTERVAL:P3D
CALSCALE:GREGORIAN
BEGIN:VEVENT
DTSTART:20180203T160000Z
DTEND:20180203T220000Z
X-MICROSOFT-CDO-ALLDAYEVENT:FALSE
SUMMARY:Steve Sinclair Photo Exhibit at Estero Llano Grande
DESCRIPTION:Steve's favorite wildlife images will be displayed and available for purchase or just to browse. All monies raised will be donated to local wildlife projects. Refreshments provided. Exhibition free\, but regular fees apply to visit the rest of the Park ($5 adults\, children 12-and-under free).
X-ALT-DESC;FMTTYPE=text/html:<span class="_4n-j _3cht fsl" data-testid="event-permalink-details">Steve&#39\;s favorite wildlife images will be displayed and available for purchase or just to browse. All monies raised will be donated to local wildlife projects. Refreshments provided. Exhibition free\, but regular fees apply to visit the rest of the Park ($5 adults\, children 12-and-under free).</span>
LOCATION:Estero Llano Grande State Park 3301 S. International Blvd.
UID:e.1244.15545
SEQUENCE:3
DTSTAMP:20260421T142516Z
URL:https://business.weslaco.com/events/details/steve-sinclair-photo-exhibit-at-estero-llano-grande-15545
END:VEVENT

END:VCALENDAR
