BEGIN:VCALENDAR
VERSION:2.0
PRODID:-//ChamberMaster//Event Calendar 2.0//EN
METHOD:PUBLISH
X-PUBLISHED-TTL:P3D
REFRESH-INTERVAL:P3D
CALSCALE:GREGORIAN
BEGIN:VEVENT
DTSTART:20160503T130000Z
DTEND:20160503T230000Z
X-MICROSOFT-CDO-ALLDAYEVENT:FALSE
SUMMARY:STHS Cinco de Mammo
DESCRIPTION:Cinco de Mammo is a special South Texas Health System event that encourages women to schedule their annual screening mammography. Mammograms are the best early detection method for breast cancer.  It's a celebration of your good health with virgin margaritas\, fiesta-themed food and Mexican decor.
X-ALT-DESC;FMTTYPE=text/html:Cinco de Mammo is a special South Texas Health System event that encourages women to schedule their annual screening mammography. Mammograms are the best early detection method for breast cancer. &nbsp\;It&#39\;s a celebration of your good health with virgin margaritas\, fiesta-themed food and Mexican decor.&nbsp\;
LOCATION:STHS ER at Weslaco 330 W. Expressway 83\, Weslaco Other locations: McAllen Medical Center 301 W. Expressway 83\, McAllen Edinburg Regional Medical Center 1102 W. Trenton Road\, Edinburg STHS ER at Mission 900 E. Expressway 83\, Mission
UID:e.1244.10951
SEQUENCE:3
DTSTAMP:20260422T231012Z
URL:https://business.weslaco.com/events/details/sths-cinco-de-mammo-05-03-2016-10951
END:VEVENT

END:VCALENDAR
