BEGIN:VCALENDAR
VERSION:2.0
PRODID:-//ChamberMaster//Event Calendar 2.0//EN
METHOD:PUBLISH
X-PUBLISHED-TTL:P3D
REFRESH-INTERVAL:P3D
CALSCALE:GREGORIAN
BEGIN:VEVENT
DTSTART:20150124T150000Z
DTEND:20150124T180000Z
X-MICROSOFT-CDO-ALLDAYEVENT:FALSE
SUMMARY:STHS ER at Weslaco Grand Opening and Ribbon Cutting
DESCRIPTION:STHS ER at Weslaco Grand Opening will feature facility tours\, health screenings\, a blood drive\, giveaways\, refreshments and music.
X-ALT-DESC;FMTTYPE=text/html:<span style="color: rgb(20\, 24\, 35)\; font-family: Helvetica\, Arial\, 'lucida grande'\, tahoma\, verdana\, arial\, sans-serif\; font-size: 14px\; line-height: 20px\;">STHS&nbsp\;ER at Weslaco Grand Opening will feature&nbsp\;facility tours\, health screenings\, a blood drive\, giveaways\, refreshments and music.</span>
LOCATION:330 W. Expressway 83 Weslaco\, TX
UID:e.1244.6033
SEQUENCE:3
DTSTAMP:20260424T003123Z
URL:https://business.weslaco.com/events/details/sths-er-at-weslaco-grand-opening-and-ribbon-cutting-01-24-2015-6033
END:VEVENT

END:VCALENDAR
