BEGIN:VCALENDAR
VERSION:2.0
PRODID:-//ChamberMaster//Event Calendar 2.0//EN
METHOD:PUBLISH
X-PUBLISHED-TTL:P3D
REFRESH-INTERVAL:P3D
CALSCALE:GREGORIAN
BEGIN:VEVENT
DTSTART:20190521T150000Z
DTEND:20190521T160000Z
X-MICROSOFT-CDO-ALLDAYEVENT:FALSE
SUMMARY:STHS ER Press Conference and Reception
DESCRIPTION:South Texas Health System will make a public announcement tomorrow in Weslaco.   South Texas Health System ER Weslaco\, South Texas Health System ER Mission and South Texas Health System ER Monte Cristo have been awarded the Freestanding ED Cardiac Care Certificate by the American College of Cardiology.  This recognition is historic since these three FEDs are the first and only in the state of Texas to receive this designation and the second in the nation.   Join us as we invite media and the community to commemorate this achievement. \n\n \n\nDate:     Tuesday\, May 21\n\nTime:     10 a.m.\n\nPlace:    South Texas Health System ER Weslaco\n\n                330 W. Expressway 83\, Weslaco\, TX 78596
X-ALT-DESC;FMTTYPE=text/html:<span style="color:black\;"><span style="font-size:11.0pt\;">South Texas Health System will make a public announcement tomorrow in Weslaco.&nbsp\; &nbsp\;South Texas Health System ER Weslaco\, South Texas Health System ER Mission and South Texas Health System ER Monte Cristo have been awarded the Freestanding ED Cardiac Care Certificate by the American College of Cardiology.&nbsp\; This recognition is historic since these three FEDs are the first and only in the state of Texas to receive this designation and the second in the nation.&nbsp\; &nbsp\;Join us as we invite media and the community to commemorate this achievement. </span></span><br />\n&nbsp\;<br />\n<span style="color:black\;"><span style="font-size:11.0pt\;">Date:&nbsp\; &nbsp\;&nbsp\; Tuesday\, May 21</span></span><br />\n<span style="color:black\;"><span style="font-size:11.0pt\;">Time:&nbsp\; &nbsp\;&nbsp\; 10 a.m.</span></span><br />\n<span style="color:black\;"><span style="font-size:11.0pt\;">Place:&nbsp\; &nbsp\; South Texas Health System ER Weslaco</span></span><br />\n<span style="color:black\;"><span style="font-size:11.0pt\;">&nbsp\;&nbsp\;&nbsp\;&nbsp\;&nbsp\;&nbsp\;&nbsp\;&nbsp\;&nbsp\;&nbsp\;&nbsp\;&nbsp\;&nbsp\;&nbsp\;&nbsp\; 330 W. Expressway 83\, Weslaco\, TX 78596</span></span>
LOCATION:
UID:e.1244.18185
SEQUENCE:3
DTSTAMP:20260420T111052Z
URL:https://business.weslaco.com/events/details/sths-er-press-conference-and-reception-18185
END:VEVENT

END:VCALENDAR
