BEGIN:VCALENDAR
VERSION:2.0
PRODID:-//ChamberMaster//Event Calendar 2.0//EN
METHOD:PUBLISH
X-PUBLISHED-TTL:P3D
REFRESH-INTERVAL:P3D
CALSCALE:GREGORIAN
BEGIN:VEVENT
DTSTART:20190726T210000Z
DTEND:20190726T230000Z
X-MICROSOFT-CDO-ALLDAYEVENT:FALSE
SUMMARY:STHS presents Kids Keeping it Safe
DESCRIPTION:South Texas Health System Children's invites parents and children to the first annual safety event to raise awareness about drowning and ATV accidents\, gun safety\, CPR\, first aid\, and heat safety. Event is free.
X-ALT-DESC;FMTTYPE=text/html:<span style="color: rgb(29\, 33\, 41)\; font-family: Helvetica\, Arial\, sans-serif\; font-size: 14px\; white-space: pre-wrap\;">South Texas Health System Children&#39\;s invites parents and children to the first annual safety event to raise awareness about drowning and ATV accidents\, gun safety\, CPR\, first aid\, and heat safety. Event is free.</span>
LOCATION:South Texas Health System 1400 W. Trenton Rd. Edinburg\, TX
UID:e.1244.18719
SEQUENCE:3
DTSTAMP:20260420T080216Z
URL:https://business.weslaco.com/events/details/sths-presents-kids-keeping-it-safe-18719
END:VEVENT

END:VCALENDAR
