BEGIN:VCALENDAR
VERSION:2.0
PRODID:-//ChamberMaster//Event Calendar 2.0//EN
METHOD:PUBLISH
X-PUBLISHED-TTL:P3D
REFRESH-INTERVAL:P3D
CALSCALE:GREGORIAN
BEGIN:VEVENT
DTSTART;VALUE=DATE:20210717
DTEND;VALUE=DATE:20210718
TRANSP:TRANSPARENT
X-MICROSOFT-CDO-ALLDAYEVENT:TRUE
SUMMARY:STHS: Transform Your Life Seminar
DESCRIPTION:HEALTH & WELLNESS SEMINAR\n\n\n\nReady to commit to leading a healthy lifestyle? The South Texas Health System Bariatric Weight Loss Surgery Center wants to help you on that journey. Don't miss our health and wellness seminar with celebrity personal trainer and author Sarah Koudouzian\, who has helped Latin artists like Chiquis Rivera\, Prince Royce\, former Miss Universe Dayanara Torres and the Valley's own rising star Emeraude Toubia. The live program will include a special exercise routine and a live cooking demonstration\, as well as mini health expo.\n\n\n\nAbout the speaker:\n\nSarah Koudouzian is the CEO of BootyFit Workout and the USA Today best-selling cookbook author of Chiquis Keto. She holds a bachelor's degree in kinesiology from California State University\, Northridge\, as well as a certification in nutrition. She believes being fit isn't about conforming to a specific look or size\, it's about creating a healthy lifestyle composed of a well-balanced diet\, daily physical activity and sufficient sleep.
X-ALT-DESC;FMTTYPE=text/html:HEALTH &amp\; WELLNESS SEMINAR<br />\n<br />\nReady to commit to leading a healthy lifestyle? The&nbsp\;South Texas Health System Bariatric Weight Loss Surgery Center&nbsp\;wants to help you on that journey. Don&rsquo\;t miss our health and wellness seminar with celebrity personal trainer and author&nbsp\;Sarah Koudouzian\, who has helped Latin artists like&nbsp\;Chiquis Rivera\, Prince Royce\, former Miss Universe&nbsp\;Dayanara Torres&nbsp\;and the Valley&rsquo\;s own rising star&nbsp\;Emeraude Toubia. The live program will include a special exercise routine and a live cooking demonstration\, as well as mini health expo.<br />\n<br />\nAbout the speaker:<br />\nSarah Koudouzian is the CEO of BootyFit Workout and the USA Today best-selling cookbook author of Chiquis Keto. She holds a bachelor&rsquo\;s degree in kinesiology from California State University\, Northridge\, as well as a certification in nutrition. She believes being fit isn&rsquo\;t about conforming to a specific look or size\, it&rsquo\;s about creating a healthy lifestyle composed of a well-balanced diet\, daily physical activity and sufficient sleep.<br />\n&nbsp\;
LOCATION:Conference Room South Texas Health System Heart Clinics 500 E. Ridge Rd. McAllen\, TX 78503
UID:e.1244.19740
SEQUENCE:3
DTSTAMP:20260422T083613Z
URL:https://business.weslaco.com/events/details/sths-transform-your-life-seminar-19740
END:VEVENT

END:VCALENDAR
