BEGIN:VCALENDAR
VERSION:2.0
PRODID:-//ChamberMaster//Event Calendar 2.0//EN
METHOD:PUBLISH
X-PUBLISHED-TTL:P3D
REFRESH-INTERVAL:P3D
CALSCALE:GREGORIAN
BEGIN:VEVENT
DTSTART:20211002T140000Z
DTEND:20211002T180000Z
X-MICROSOFT-CDO-ALLDAYEVENT:FALSE
SUMMARY:STISD: Job Fair & COVID Vaccine Clinic
DESCRIPTION:Where: Job Fair: South Texas ISD Science Academy (inside the gymnasium)\, 900 Med High Dr.\, \n\nMercedes\n\n \n\nCOVID-19 Vaccine Clinic for Community: Biblioteca Las Americas\, 300 Med High Dr.\, \n\nMercedes\n\n \n\nWhat: South Texas Independent School District (STISD) is hosting an in-person job fair at the district's Mercedes complex and inviting the community to attend and learn more about open employment positions within the district. \n\n \n\nThe district is currently hiring for various positions at campuses and district wide\, including the following: \n\n  Teachers\n\n  Counselors \n\n  Licensed School Psychologist\n\n  Special Education Teachers\n\n  Classroom Aides\n\n  Bookkeeper\n\n  Bus Drivers\n\n  Child Nutrition Worker\n\n  Custodians (Day/Night)\n\n  Electrician\n\n  HVAC Technician\n\n  Mechanic\n\n  Plumber\n\n \n\nThose interested in applying for any position within the district may apply onsite. For additional information\, visit https://www.stisd.net/employment.\n\n \n\nIn addition to the job fair\, the district is also hosting a community COVID-19 vaccine clinic. The clinic will be held at the STISD Biblioteca Las Americas\, which is located right next door to the Science Academy gymnasium. The clinic will offer the first-dose of the Pfizer vaccine free of cost to unvaccinated members of the community who want to receive their vaccination. Individuals must be 12 years of age or older to receive the vaccine. For children 18 and under\, parents must be present.
X-ALT-DESC;FMTTYPE=text/html:<div>Where: Job Fair: South Texas ISD Science Academy (inside the gymnasium)\, 900 Med High Dr.\,&nbsp\;</div>\n\n<div>Mercedes</div>\n\n<div>&nbsp\;</div>\n\n<div>COVID-19 Vaccine Clinic for Community: Biblioteca Las Americas\, 300 Med High Dr.\,&nbsp\;</div>\n\n<div>Mercedes</div>\n\n<div>&nbsp\;</div>\n\n<div>What: South Texas Independent School District (STISD) is hosting an in-person job fair at the district&rsquo\;s Mercedes complex and inviting the community to attend and learn more about open employment positions within the district.&nbsp\;</div>\n\n<div>&nbsp\;</div>\n\n<div>The district is currently hiring for various positions at campuses and district wide\, including the following:&nbsp\;</div>\n\n<div>&bull\;<span style="white-space:pre"> </span>Teachers</div>\n\n<div>&bull\;<span style="white-space:pre"> </span>Counselors&nbsp\;</div>\n\n<div>&bull\;<span style="white-space:pre"> </span>Licensed School Psychologist</div>\n\n<div>&bull\;<span style="white-space:pre"> </span>Special Education Teachers</div>\n\n<div>&bull\;<span style="white-space:pre"> </span>Classroom Aides</div>\n\n<div>&bull\;<span style="white-space:pre"> </span>Bookkeeper</div>\n\n<div>&bull\;<span style="white-space:pre"> </span>Bus Drivers</div>\n\n<div>&bull\;<span style="white-space:pre"> </span>Child Nutrition Worker</div>\n\n<div>&bull\;<span style="white-space:pre"> </span>Custodians (Day/Night)</div>\n\n<div>&bull\;<span style="white-space:pre"> </span>Electrician</div>\n\n<div>&bull\;<span style="white-space:pre"> </span>HVAC Technician</div>\n\n<div>&bull\;<span style="white-space:pre"> </span>Mechanic</div>\n\n<div>&bull\;<span style="white-space:pre"> </span>Plumber</div>\n\n<div>&nbsp\;</div>\n\n<div>Those interested in applying for any position within the district may apply onsite. For additional information\, visit https://www.stisd.net/employment.</div>\n\n<div>&nbsp\;</div>\n\n<div>In addition to the job fair\, the district is also hosting a community COVID-19 vaccine clinic. The clinic will be held at the STISD Biblioteca Las Americas\, which is located right next door to the Science Academy gymnasium. The clinic will offer the first-dose of the Pfizer vaccine free of cost to unvaccinated members of the community who want to receive their vaccination. Individuals must be 12 years of age or older to receive the vaccine. For children 18 and under\, parents must be present.</div>\n
LOCATION:Job Fair: South Texas ISD Science Academy (inside the gymnasium)\, 900 Med High Dr.\, Mercedes COVID-19 Vaccine Clinic for Community: Biblioteca Las Americas\, 300 Med High Dr.\, Mercedes
UID:e.1244.20558
SEQUENCE:3
DTSTAMP:20260422T033323Z
URL:https://business.weslaco.com/events/details/stisd-job-fair-covid-vaccine-clinic-20558
END:VEVENT

END:VCALENDAR
