BEGIN:VCALENDAR
VERSION:2.0
PRODID:-//ChamberMaster//Event Calendar 2.0//EN
METHOD:PUBLISH
X-PUBLISHED-TTL:P3D
REFRESH-INTERVAL:P3D
CALSCALE:GREGORIAN
BEGIN:VEVENT
DTSTART:20200307T133000Z
DTEND:20200307T170000Z
X-MICROSOFT-CDO-ALLDAYEVENT:FALSE
SUMMARY:STJDA Annual 5K Sweet Run
DESCRIPTION:We invite everyone to join us for this diabetes awareness event\, we'll have a 5K and 1 Mile Walk. Walk a mile in our shoes and join us for a 5K run! Benefiting South Texas Juvenile Diabetes Association.\n\nCheck-in is at 7:30 am\, 5K starts at 8 am\, Fun Walk starts at 8:30 am.\n\nPlease visit www.stjda.org for more information. Register today!
X-ALT-DESC;FMTTYPE=text/html:<p><span style="color:rgb(29\, 33\, 41)\; font-family:helvetica\,arial\,sans-serif\; font-size:14px">We invite everyone to join us for this diabetes awareness event\, we&#39\;ll have a 5K and 1 Mile Walk. Walk a mile in our shoes and join us for a 5K run! Benefiting South Texas Juvenile Diabetes Association.<br />\nCheck-in is at 7:30 am\, 5K starts at 8 am\, Fun Walk starts at 8:30 am.</span></p>\n\n<p><span style="color:rgb(29\, 33\, 41)\; font-family:helvetica\,arial\,sans-serif\; font-size:14px">Please visit&nbsp\;</span><a href="https://l.facebook.com/l.php?u=http%3A%2F%2Fwww.stjda.org%2F%3Ffbclid%3DIwAR34Y6L5dE0E-9M-uvOTcbAiBlJ_Zj-ne6__93VWLZ4O2m2_E992KMVCyCc&amp\;h=AT1mI5M5_fYugwWrnsRugnO3ZQbauhEPhDjwUSazZ8FT9CrSUk6k_C4iVS6a2CeQ6SktyDy0d1qQfurD9EBMMrxh3rsztVLRgKD4T4GpmoR2a1h9lvrOkwMJNmc2itq55bbl" rel="nofollow noopener" style="box-sizing: border-box\; color: rgb(56\, 88\, 152)\; text-decoration-line: none\; overflow-wrap: break-word\; outline: 0px\; cursor: pointer\; font-family: Helvetica\, Arial\, sans-serif\; font-size: 14px\; white-space: pre-wrap\;" target="_blank">www.stjda.org</a><span style="color:rgb(29\, 33\, 41)\; font-family:helvetica\,arial\,sans-serif\; font-size:14px">&nbsp\;for more information. Register today!</span></p>\n
LOCATION:Mayor Pablo G. Pena City Park 300 N. Airport Dr. Weslaco
UID:e.1244.19303
SEQUENCE:3
DTSTAMP:20260419T183350Z
URL:https://business.weslaco.com/events/details/stjda-annual-5k-sweet-run-19303
END:VEVENT

END:VCALENDAR
