BEGIN:VCALENDAR
VERSION:2.0
PRODID:-//ChamberMaster//Event Calendar 2.0//EN
METHOD:PUBLISH
X-PUBLISHED-TTL:P3D
REFRESH-INTERVAL:P3D
CALSCALE:GREGORIAN
BEGIN:VEVENT
DTSTART:20180801T150000Z
DTEND:20180801T170000Z
X-MICROSOFT-CDO-ALLDAYEVENT:FALSE
SUMMARY:Summer 2018 Social Media Seminar Series - Intro to Social Media
DESCRIPTION:Join us for an informative four-part social media series that will help any business or organization punch up their social media pages. Presented by CEO Methods\n\n\n\nWed\, Aug. 1- Intro to Social Media\n\n\n\nCall 956-968-2102 to RSVP. Seating is LIMITED!
X-ALT-DESC;FMTTYPE=text/html:<span>Join us for an informative four-part social media series that will help any business or organization punch up their social media pages. Presented by <a href="https://www.facebook.com/ceomethods/" target="_blank">CEO Methods</a><br />\n<br />\nWed\, Aug. 1- Intro to Social Media<br />\n<br />\nCall 956-968-2102 to RSVP. Seating is LIMITED!</span>
LOCATION:Business Visitor & Event Center 275 S. Kansas\, Weslaco
UID:e.1244.16947
SEQUENCE:3
DTSTAMP:20260421T044456Z
URL:https://business.weslaco.com/events/details/summer-2018-social-media-seminar-series-intro-to-social-media-16947
END:VEVENT

END:VCALENDAR
