BEGIN:VCALENDAR
VERSION:2.0
PRODID:-//ChamberMaster//Event Calendar 2.0//EN
METHOD:PUBLISH
X-PUBLISHED-TTL:P3D
REFRESH-INTERVAL:P3D
CALSCALE:GREGORIAN
BEGIN:VEVENT
DTSTART:20170617T150000Z
DTEND:20170617T163000Z
X-MICROSOFT-CDO-ALLDAYEVENT:FALSE
SUMMARY:Summer Sun: Children's Painting Class at Frontera Audubon
DESCRIPTION:Now we are approaching the height of summer\, and the sun may not feel like a friend. nevertheless\, it's bright\, streaming rays give life to all of the plants\, animals\, and people around the world. In the story SUMMER SUN\, children see the significance of our star rising in warm colors: red\, orange and yellow. The children will paint two water color exercises with the rising sun as the natural mood. Come join us! \n\n\n\nTo register please call us at (956) 968-3275\n\nor Send us an email with your childs name & age along with your contact info to: FronteraAudubon@gmail.com
X-ALT-DESC;FMTTYPE=text/html:<span style="color:#656565\;"><span style="font-family:helvetica\,sans-serif\;"><span style="font-size:12.0pt\;">Now we are approaching the height of summer\, and the sun may not feel like a friend. nevertheless\, it&#39\;s bright\, streaming rays give life to all of the plants\, animals\, and people around the world. In the story SUMMER SUN\, children see the significance of our star rising in warm colors: red\, orange and yellow. The children will paint two water color exercises with the rising sun as the natural mood. Come join us!&nbsp\;<br />\n<br />\nTo register please call us at (956) 968-3275<br />\nor Send us an email with your childs name &amp\; age along with your contact info to: <a href="mailto:FronteraAudubon@gmail.com">FronteraAudubon@gmail.com</a></span></span></span><br />\n&nbsp\;
LOCATION:1101 S. Texas Blvd. Weslaco\, TX
UID:e.1244.12751
SEQUENCE:3
DTSTAMP:20260422T014207Z
URL:https://business.weslaco.com/events/details/summer-sun-children-s-painting-class-at-frontera-audubon-12751
END:VEVENT

END:VCALENDAR
