BEGIN:VCALENDAR
VERSION:2.0
PRODID:-//ChamberMaster//Event Calendar 2.0//EN
METHOD:PUBLISH
X-PUBLISHED-TTL:P3D
REFRESH-INTERVAL:P3D
CALSCALE:GREGORIAN
BEGIN:VEVENT
DTSTART:20180531T223000Z
DTEND:20180601T003000Z
X-MICROSOFT-CDO-ALLDAYEVENT:FALSE
SUMMARY:Super 8 Summer Kick Off Mixer and Ribbon Cutting Ceremony
DESCRIPTION:It's a SUPER SUMMER KICK OFF! Enjoy refreshments by the pool at Super 8 while we say "aloha" to summer! We'll also be having a special ribbon cutting ceremony to celebrate the pool renovations!
X-ALT-DESC;FMTTYPE=text/html:It&#39\;s a SUPER SUMMER KICK OFF! Enjoy refreshments by the pool at Super 8 while we say &quot\;aloha&quot\; to summer! We&#39\;ll also be having a special ribbon cutting ceremony to celebrate the pool renovations!
LOCATION:Super 8 Motel 1702 E. Expressway 83
UID:e.1244.16895
SEQUENCE:3
DTSTAMP:20260421T075800Z
URL:https://business.weslaco.com/events/details/super-8-summer-kick-off-mixer-and-ribbon-cutting-ceremony-16895
END:VEVENT

END:VCALENDAR
