BEGIN:VCALENDAR
VERSION:2.0
PRODID:-//ChamberMaster//Event Calendar 2.0//EN
METHOD:PUBLISH
X-PUBLISHED-TTL:P3D
REFRESH-INTERVAL:P3D
CALSCALE:GREGORIAN
BEGIN:VEVENT
DTSTART:20150110T160000Z
DTEND:20150110T170000Z
X-MICROSOFT-CDO-ALLDAYEVENT:FALSE
SUMMARY:Sustainability by Maria Patterson
DESCRIPTION:Sustainability is how biological systems remain diverse and productive. Long-lived and healthy wetlands and forests are examples of sustainable biological systems. Does your child have an up-coming science fair project? Here is an excellent subject for them to present. Let's learn how we can practice sustainability in our daily lives. Coffee and pastries will be served. Your $3.00 admission includes access to the nature trails and native plant nursery.
X-ALT-DESC;FMTTYPE=text/html:Sustainability is how biological systems remain diverse and productive. Long-lived and healthy wetlands and forests are examples of sustainable biological systems. Does your child have an up-coming science fair project? Here is an excellent subject for them to present. Let&#39\;s learn how we can practice sustainability in our daily lives. Coffee and pastries will be served. Your $3.00 admission includes access to the nature trails and native plant nursery.&nbsp\;
LOCATION:Valley Nature Center 301 South Border Ave Weslaco\, TX 78596
UID:e.1244.6014
SEQUENCE:3
DTSTAMP:20260424T002417Z
URL:https://business.weslaco.com/events/details/sustainability-by-maria-patterson-01-10-2015-6014
END:VEVENT

END:VCALENDAR
