BEGIN:VCALENDAR
VERSION:2.0
PRODID:-//ChamberMaster//Event Calendar 2.0//EN
METHOD:PUBLISH
X-PUBLISHED-TTL:P3D
REFRESH-INTERVAL:P3D
CALSCALE:GREGORIAN
BEGIN:VEVENT
DTSTART:20141011T190000Z
DTEND:20141012T000000Z
X-MICROSOFT-CDO-ALLDAYEVENT:FALSE
SUMMARY:Swank Cake Design Classes at H & Kay Bakery Supplies
DESCRIPTION:Swank Cake Design has always been in high demand for wedding cakes from the most discriminating brides in their region\, and for their fun and informative classes from fellow cake decorators. Wayne and Chuck are highly sought after by sugar enthusiasts outside of their region as well\, traveling the county several months out of each year\, bringing their popular classes to cake shows and other bakeries or schools for students who can't make the trip to North Carolina.\n\nWayne\, Chuck\, and their business\, Swank Cake Design\, have been featured on: TLC's Fabulous Cakes and Ultimate Cake Off\, as well as Cake Wrecks ~ Sunday Sweets\,The Knot\, Style Me Pretty and is consistently voted "Bride's Choice" on Wedding Wire.\n\nSaturday afternoon's lesson is "Steampunk Jewelry Box".
X-ALT-DESC;FMTTYPE=text/html:<p style="margin-bottom:.25in"><span style="font-size:12px\;"><span style="font-family:arial\;">Swank Cake Design has always been in high demand for wedding cakes from the most discriminating brides in their region\, and for&nbsp\;their fun and informative classes from fellow cake decorators. Wayne and Chuck are highly sought after by sugar enthusiasts&nbsp\;outside of their region as well\, traveling the county several months out of each year\, bringing their popular classes to cake shows&nbsp\;and other bakeries or schools for students who can&rsquo\;t make the trip to North Carolina.<br />\n<span style="line-height: 15.75pt\;">Wayne\, Chuck\, and their business\, Swank Cake Design\, have been featured on: TLC&rsquo\;s Fabulous Cakes and Ultimate Cake Off\, as&nbsp\;</span><span style="line-height: 15.75pt\;">well as Cake Wrecks ~ Sunday Sweets\,The Knot\, Style Me Pretty and is consistently voted &ldquo\;Bride&rsquo\;s Choice&rdquo\; on Wedding Wire.<br />\nSaturday afternoon&#39\;s lesson is &quot\;Steampunk Jewelry Box&quot\;.</span></span></span></p>\n
LOCATION:H & Kay Bakery Supplies 331 S. Texas Blvd. Weslaco\, TX
UID:e.1244.5952
SEQUENCE:3
DTSTAMP:20260424T051541Z
URL:https://business.weslaco.com/events/details/swank-cake-design-classes-at-h-kay-bakery-supplies-10-11-2014-5952
END:VEVENT

END:VCALENDAR
