BEGIN:VCALENDAR
VERSION:2.0
PRODID:-//ChamberMaster//Event Calendar 2.0//EN
METHOD:PUBLISH
X-PUBLISHED-TTL:P3D
REFRESH-INTERVAL:P3D
CALSCALE:GREGORIAN
BEGIN:VEVENT
DTSTART:20190410T140000Z
DTEND:20190410T150000Z
X-MICROSOFT-CDO-ALLDAYEVENT:FALSE
SUMMARY:Tax Made Easy for Small Businesses Seminar
DESCRIPTION:The Weslaco Area Chamber of Commerce invites you to a tax seminar series\, presented by Wycotax free e$timax.\n\n\n\nAttend our Tax Made Easy for Small Businesses workshop to learn:\n\n- Benefits of proper tax planning\n\n- Find out how your business registration affects your income\n\n- Difference between dba\, LLC & S-Corp\n\n\nThis is the first of a four-part tax workshop series that will be held every Wednesday in April at the Weslaco Area Chamber of Commerce from 9-10 am! Click the event for registration link.
X-ALT-DESC;FMTTYPE=text/html:<p>The Weslaco Area Chamber of Commerce invites you to a tax seminar series\, presented by Wycotax free e$timax.<br />\n<br />\nAttend our Tax Made Easy for Small Businesses workshop to learn:<br />\n- Benefits of proper tax planning<br />\n- Find out how your business registration affects your income<br />\n- Difference between dba\, LLC &amp\; S-Corp</p>\n\n<div class="text_exposed_show">\n<p>This is the first of a four-part tax workshop series that will be held every Wednesday in April at the Weslaco Area Chamber of Commerce from 9-10 am! Click the event for registration link.</p>\n</div>\n
LOCATION:Business Visitor and Event Center 275 S. Kansas
UID:e.1244.18126
SEQUENCE:3
DTSTAMP:20260420T144442Z
URL:https://business.weslaco.com/events/details/tax-made-easy-for-small-businesses-seminar-18126
END:VEVENT

END:VCALENDAR
