BEGIN:VCALENDAR
VERSION:2.0
PRODID:-//ChamberMaster//Event Calendar 2.0//EN
METHOD:PUBLISH
X-PUBLISHED-TTL:P3D
REFRESH-INTERVAL:P3D
CALSCALE:GREGORIAN
BEGIN:VEVENT
DTSTART:20190501T140000Z
DTEND:20190501T150000Z
X-MICROSOFT-CDO-ALLDAYEVENT:FALSE
SUMMARY:Tax Made Easy Seminar: Placing Yourself on the Payroll
DESCRIPTION:The Weslaco Area Chamber of Commerce invites you to a tax seminar series\, presented by Wycotax free e$timax.\n\nAttend our Tax Made Easy for Small Businesses workshop to learn:\n\n- What is a reasonable compensation\n\n- What kind of payments you can take\n\n- Learn about additional deductions\, expenses and benefits! \n\n \n\nThis is the LAST of 4 workshop series that will be held every TUESDAY in April at the Weslaco Area Chamber of Commerce from 9-10 am! Get all of your tax questions answered at the end of the workshop by a tax expert.
X-ALT-DESC;FMTTYPE=text/html:<div style="color: rgb(64\, 63\, 66)\; font-family: Arial\, Verdana\, Helvetica\, sans-serif\; font-size: 12px\; white-space: pre-wrap\;"><span style="font-size: 14px\;">The Weslaco Area Chamber of Commerce invites you to a tax seminar series\, presented by Wycotax free e$timax.</span></div>\n\n<div style="color: rgb(64\, 63\, 66)\; font-family: Arial\, Verdana\, Helvetica\, sans-serif\; font-size: 12px\; white-space: pre-wrap\;"><span style="font-size: 14px\;">Attend our Tax Made Easy for Small Businesses workshop to learn:</span></div>\n\n<div style="color: rgb(64\, 63\, 66)\; font-family: Arial\, Verdana\, Helvetica\, sans-serif\; font-size: 12px\; white-space: pre-wrap\;"><span style="font-size: 14px\;">- What is a reasonable compensation</span></div>\n\n<div style="color: rgb(64\, 63\, 66)\; font-family: Arial\, Verdana\, Helvetica\, sans-serif\; font-size: 12px\; white-space: pre-wrap\;"><span style="font-size: 14px\;">- What kind of payments you can take</span></div>\n\n<div style="color: rgb(64\, 63\, 66)\; font-family: Arial\, Verdana\, Helvetica\, sans-serif\; font-size: 12px\; white-space: pre-wrap\;"><span style="font-size: 14px\;">- Learn about additional deductions\, expenses and benefits! </span></div>\n\n<div style="color: rgb(64\, 63\, 66)\; font-family: Arial\, Verdana\, Helvetica\, sans-serif\; font-size: 12px\; white-space: pre-wrap\;">&nbsp\;</div>\n\n<div style="color: rgb(64\, 63\, 66)\; font-family: Arial\, Verdana\, Helvetica\, sans-serif\; font-size: 12px\; white-space: pre-wrap\;"><span style="font-size: 14px\;">This is the LAST of 4 workshop series that will be held every TUESDAY in April at the Weslaco Area Chamber of Commerce from 9-10 am! Get all of your tax questions answered at the end of the workshop by a tax expert.</span></div>\n
LOCATION:Business Visitor & Event Center 275 S. Kansas
UID:e.1244.18136
SEQUENCE:3
DTSTAMP:20260420T113651Z
URL:https://business.weslaco.com/events/details/tax-made-easy-seminar-placing-yourself-on-the-payroll-18136
END:VEVENT

END:VCALENDAR
