BEGIN:VCALENDAR
VERSION:2.0
PRODID:-//ChamberMaster//Event Calendar 2.0//EN
METHOD:PUBLISH
X-PUBLISHED-TTL:P3D
REFRESH-INTERVAL:P3D
CALSCALE:GREGORIAN
BEGIN:VEVENT
DTSTART:20150710T140000Z
DTEND:20150710T210000Z
X-MICROSOFT-CDO-ALLDAYEVENT:FALSE
SUMMARY:Teaming With Wildlife: True to Texas
DESCRIPTION:Teaming With Wildlife:True to Texas Coalition presents the 2015 Eco-Summit Series.  This forum will introduce the Coalition\, provide members with relevant information\, and encourage Texans to provide their input regarding conservation issues. At each Eco-Summit we'll host listening sessions\, and facilitate collaboration between local and regional organizations.  Attendees will include individuals involved in creating the Texas Conservation Action Plan (TCAP)\, such as land owners\, TPWD biologists\, academia\, conservation organizations\, and elected officials.\n\n \n\n Learn about Teaming With Wildlife: True To Texas' role in conserving our natural heritage.\n\n Discuss the host ecoregion's Texas Conservation Action Plan handbook.\n\n Learn about pressing conservation issues in your ecoregion.\n\n Learn how to contribute to wildlife near you.\n\n Voice your concerns about local wildlife and conservation issues.\n\n Inform others of your wildlife projects and connect with others involved in similar projects.\n\n \n\nAt each Eco-Summit\, you'll have a chance to talk about your priorities for your area\, and to work with others to advance your goals\, and that of natural resources in Texas. We encourage you to choose an Eco-Summit based on your interests\, expertise\, or geographic convenience and add your voice to the conservation conversation.
X-ALT-DESC;FMTTYPE=text/html:Teaming With Wildlife:True to Texas Coalition presents the 2015 Eco-Summit Series.&nbsp\; This forum will introduce the Coalition\, provide members with relevant information\, and encourage Texans to provide their input regarding conservation issues. At each Eco-Summit we&#39\;ll host listening sessions\, and facilitate collaboration between local and regional organizations.&nbsp\; Attendees will include individuals involved in creating the Texas Conservation Action Plan (TCAP)\, such as land owners\, TPWD biologists\, academia\, conservation organizations\, and elected officials.<br />\n&nbsp\;<br />\n&bull\;Learn about Teaming With Wildlife: True To Texas&rsquo\; role in conserving our natural heritage.<br />\n&bull\;Discuss the host ecoregion&rsquo\;s Texas Conservation Action Plan handbook.<br />\n&bull\;Learn about pressing conservation issues in your ecoregion.<br />\n&bull\;Learn how to contribute to wildlife near you.<br />\n&bull\;Voice your concerns about local wildlife and conservation issues.<br />\n&bull\;Inform others of your wildlife projects and connect with others involved in similar projects.<br />\n&nbsp\;<br />\nAt each Eco-Summit\, you&#39\;ll have a chance to talk about your priorities for your area\, and to work with others to advance your goals\, and that of natural resources in Texas. We encourage you to choose an Eco-Summit based on your interests\, expertise\, or geographic convenience and add your voice to the conservation conversation.
LOCATION:Estero Llano Grande State Park 3301 S. International Blvd. Weslaco\, TX
UID:e.1244.6689
SEQUENCE:3
DTSTAMP:20260423T144809Z
URL:https://business.weslaco.com/events/details/teaming-with-wildlife-true-to-texas-07-10-2015-6689
END:VEVENT

END:VCALENDAR
