BEGIN:VCALENDAR
VERSION:2.0
PRODID:-//ChamberMaster//Event Calendar 2.0//EN
METHOD:PUBLISH
X-PUBLISHED-TTL:P3D
REFRESH-INTERVAL:P3D
CALSCALE:GREGORIAN
BEGIN:VEVENT
DTSTART:20151212T173000Z
DTEND:20151212T193000Z
X-MICROSOFT-CDO-ALLDAYEVENT:FALSE
SUMMARY:Tex-Mex Fundraising Luncheon
DESCRIPTION:Entertainment and museum tours will be provided.  Presented by the Museum Guild.  Call 968-9142 for more information.
X-ALT-DESC;FMTTYPE=text/html:Entertainment and museum tours will be provided. &nbsp\;Presented by the Museum Guild. &nbsp\;Call 968-9142 for more information.&nbsp\;
LOCATION:Weslaco Museum 500 S. Texas Blvd.
UID:e.1244.8760
SEQUENCE:3
DTSTAMP:20260423T065849Z
URL:https://business.weslaco.com/events/details/tex-mex-fundraising-luncheon-12-12-2015-8760
END:VEVENT

END:VCALENDAR
