BEGIN:VCALENDAR
VERSION:2.0
PRODID:-//ChamberMaster//Event Calendar 2.0//EN
METHOD:PUBLISH
X-PUBLISHED-TTL:P3D
REFRESH-INTERVAL:P3D
CALSCALE:GREGORIAN
BEGIN:VEVENT
DTSTART:20190713T150000Z
DTEND:20190713T220000Z
X-MICROSOFT-CDO-ALLDAYEVENT:FALSE
SUMMARY:Texas Aviation Academy Fly-In
DESCRIPTION:Texas Aviation Academy is hosting a fly-in at Mid Valley Airport. They'll have war birds\, airplane rides\, food and music!
X-ALT-DESC;FMTTYPE=text/html:Texas Aviation Academy is hosting a fly-in at Mid Valley Airport. They&#39\;ll have war birds\, airplane rides\, food and music!
LOCATION:Mid Valley Airport 1909 Joe Stephens Ave. Weslaco
UID:e.1244.18696
SEQUENCE:3
DTSTAMP:20260420T080308Z
URL:https://business.weslaco.com/events/details/texas-aviation-academy-fly-in-18696
END:VEVENT

END:VCALENDAR
