BEGIN:VCALENDAR
VERSION:2.0
PRODID:-//ChamberMaster//Event Calendar 2.0//EN
METHOD:PUBLISH
X-PUBLISHED-TTL:P3D
REFRESH-INTERVAL:P3D
CALSCALE:GREGORIAN
BEGIN:VEVENT
DTSTART:20180808T144500Z
DTEND:20180808T180000Z
X-MICROSOFT-CDO-ALLDAYEVENT:FALSE
SUMMARY:Texas Farm Credit Blood Drive
DESCRIPTION:Texas Farm Credit\, in Weslaco\, is hosting a blood drive on August 8\, 2018 from 9:45 am   1:00 pm. Every three seconds\, there is a person in need of blood. It takes just one pint of blood to save up to three lives. Give someone the greatest gift possible and come donate blood!
X-ALT-DESC;FMTTYPE=text/html:Texas Farm Credit\, in Weslaco\, is hosting a blood drive on August 8\, 2018 from 9:45 am &ndash\; 1:00 pm. Every three seconds\, there is a person in need of blood. It takes just one pint of blood to save up to three lives. Give someone the greatest gift possible and come donate blood!<br />\n<br />\n&nbsp\;
LOCATION:Texas Farm Credit 555 S. International Blvd. Weslaco\, TX
UID:e.1244.16952
SEQUENCE:3
DTSTAMP:20260421T025326Z
URL:https://business.weslaco.com/events/details/texas-farm-credit-blood-drive-16952
END:VEVENT

END:VCALENDAR
