BEGIN:VCALENDAR
VERSION:2.0
PRODID:-//ChamberMaster//Event Calendar 2.0//EN
METHOD:PUBLISH
X-PUBLISHED-TTL:P3D
REFRESH-INTERVAL:P3D
CALSCALE:GREGORIAN
BEGIN:VEVENT
DTSTART:20190605T143000Z
DTEND:20190605T173000Z
X-MICROSOFT-CDO-ALLDAYEVENT:FALSE
SUMMARY:Texas Farm Credit Blood Drive
DESCRIPTION:Texas Farm Credit\, in Weslaco\, is hosting a blood drive on Wed\, June 5 from 9:30 am   12:30 pm. Every three seconds\, there is a person in need of blood. It takes just one pint of blood to save up to three lives. Give someone the greatest gift possible and come donate blood!
X-ALT-DESC;FMTTYPE=text/html:Texas Farm Credit\, in Weslaco\, is hosting a blood drive on Wed\, June 5 from 9:30 am &ndash\; 12:30 pm. Every three seconds\, there is a person in need of blood. It takes just one pint of blood to save up to three lives. Give someone the greatest gift possible and come donate blood!
LOCATION:Texas Farm Credit 555 S. International Blvd. Weslaco\, TX
UID:e.1244.18188
SEQUENCE:3
DTSTAMP:20260420T094457Z
URL:https://business.weslaco.com/events/details/texas-farm-credit-blood-drive-18188
END:VEVENT

END:VCALENDAR
