BEGIN:VCALENDAR
VERSION:2.0
PRODID:-//ChamberMaster//Event Calendar 2.0//EN
METHOD:PUBLISH
X-PUBLISHED-TTL:P3D
REFRESH-INTERVAL:P3D
CALSCALE:GREGORIAN
BEGIN:VEVENT
DTSTART:20190310T000000Z
DTEND:20190310T020000Z
X-MICROSOFT-CDO-ALLDAYEVENT:FALSE
SUMMARY:Texas Music Educators Assoc. All Region Mariachi in Concert
DESCRIPTION:Texas Music Educators Association\n\nAll-Region Mariachi\n\nIN CONCERT
X-ALT-DESC;FMTTYPE=text/html:Texas Music Educators Association<br />\nAll-Region Mariachi<br />\nIN CONCERT<br />\n&nbsp\;
LOCATION:Weslaco ISD Performing Arts Center
UID:e.1244.17102
SEQUENCE:3
DTSTAMP:20260420T163619Z
URL:https://business.weslaco.com/events/details/texas-music-educators-assoc-all-region-mariachi-in-concert-17102
END:VEVENT

END:VCALENDAR
