BEGIN:VCALENDAR
VERSION:2.0
PRODID:-//ChamberMaster//Event Calendar 2.0//EN
METHOD:PUBLISH
X-PUBLISHED-TTL:P3D
REFRESH-INTERVAL:P3D
CALSCALE:GREGORIAN
BEGIN:VEVENT
DTSTART:20140322T150000Z
DTEND:20140323T020000Z
X-MICROSOFT-CDO-ALLDAYEVENT:FALSE
SUMMARY:Texas Onion Fest 2014
DESCRIPTION:Celebrating our 25th Anniversary! Enjoy food and vendor booths\, live entertainment\, arts and crafts\, cooking demonstrations\, recipe contests\, kids zone\, dancing horse show and much more.
X-ALT-DESC;FMTTYPE=text/html:<p>\n	Celebrating our 25th Anniversary! Enjoy food and vendor booths\, live entertainment\, arts and crafts\, cooking demonstrations\, recipe contests\, kids zone\, dancing horse show and much more.</p>\n
LOCATION:Weslaco City Park 300 N. Airport
UID:e.1244.5869
SEQUENCE:3
DTSTAMP:20260424T193043Z
URL:https://business.weslaco.com/events/details/texas-onion-fest-2014-03-22-2014-5869
END:VEVENT

END:VCALENDAR
