BEGIN:VCALENDAR
VERSION:2.0
PRODID:-//ChamberMaster//Event Calendar 2.0//EN
METHOD:PUBLISH
X-PUBLISHED-TTL:P3D
REFRESH-INTERVAL:P3D
CALSCALE:GREGORIAN
BEGIN:VEVENT
DTSTART:20190323T140000Z
DTEND:20190324T033000Z
X-MICROSOFT-CDO-ALLDAYEVENT:FALSE
SUMMARY:Texas Onion Fest 2019
DESCRIPTION:Enjoy food and vendor booths\, live entertainment\, arts and crafts\, cooking demonstrations\, recipe contests\, kids zone\, dancing horse show and much more.
X-ALT-DESC;FMTTYPE=text/html:<p>Enjoy food and vendor booths\, live entertainment\, arts and crafts\, cooking demonstrations\, recipe contests\, kids zone\, dancing horse show and much more.</p>\n
LOCATION:Mayor Pablo G. Pena City Park 300 N. Airport
UID:e.1244.17077
SEQUENCE:3
DTSTAMP:20260420T143831Z
URL:https://business.weslaco.com/events/details/texas-onion-fest-2019-17077
END:VEVENT

END:VCALENDAR
