BEGIN:VCALENDAR
VERSION:2.0
PRODID:-//ChamberMaster//Event Calendar 2.0//EN
METHOD:PUBLISH
X-PUBLISHED-TTL:P3D
REFRESH-INTERVAL:P3D
CALSCALE:GREGORIAN
BEGIN:VEVENT
DTSTART:20220326T160000Z
DTEND:20220326T230000Z
X-MICROSOFT-CDO-ALLDAYEVENT:FALSE
SUMMARY:Texas Onion Fest Car Show
DESCRIPTION:Car Show at Texas Onion Fest
X-ALT-DESC;FMTTYPE=text/html:Car Show at Texas Onion Fest
LOCATION:Texas Blvd & 4th Street
UID:e.1244.20642
SEQUENCE:3
DTSTAMP:20260421T201811Z
URL:https://business.weslaco.com/events/details/texas-onion-fest-car-show-20642
END:VEVENT

END:VCALENDAR
