BEGIN:VCALENDAR
VERSION:2.0
PRODID:-//ChamberMaster//Event Calendar 2.0//EN
METHOD:PUBLISH
X-PUBLISHED-TTL:P3D
REFRESH-INTERVAL:P3D
CALSCALE:GREGORIAN
BEGIN:VEVENT
DTSTART:20151112T233000Z
DTEND:20151113T010000Z
X-MICROSOFT-CDO-ALLDAYEVENT:FALSE
SUMMARY:Texas Regional Bank Grand Opening
DESCRIPTION:
X-ALT-DESC;FMTTYPE=text/html:
LOCATION:400 N. Westgate Weslaco\, TX
UID:e.1244.8753
SEQUENCE:3
DTSTAMP:20260423T084323Z
URL:https://business.weslaco.com/events/details/texas-regional-bank-grand-opening-11-12-2015-8753
END:VEVENT

END:VCALENDAR
