BEGIN:VCALENDAR
VERSION:2.0
PRODID:-//ChamberMaster//Event Calendar 2.0//EN
METHOD:PUBLISH
X-PUBLISHED-TTL:P3D
REFRESH-INTERVAL:P3D
CALSCALE:GREGORIAN
BEGIN:VEVENT
DTSTART:20150609T223000Z
DTEND:20150609T233000Z
X-MICROSOFT-CDO-ALLDAYEVENT:FALSE
SUMMARY:Texas Regional Bank Groundbreaking Ceremony
DESCRIPTION:
X-ALT-DESC;FMTTYPE=text/html:
LOCATION:Corner of Westgate and Panther Drive
UID:e.1244.6680
SEQUENCE:3
DTSTAMP:20260423T162402Z
URL:https://business.weslaco.com/events/details/texas-regional-bank-groundbreaking-ceremony-06-09-2015-6680
END:VEVENT

END:VCALENDAR
