BEGIN:VCALENDAR
VERSION:2.0
PRODID:-//ChamberMaster//Event Calendar 2.0//EN
METHOD:PUBLISH
X-PUBLISHED-TTL:P3D
REFRESH-INTERVAL:P3D
CALSCALE:GREGORIAN
BEGIN:VEVENT
DTSTART:20190717T133000Z
DTEND:20190717T173000Z
X-MICROSOFT-CDO-ALLDAYEVENT:FALSE
SUMMARY:Texas Watershed Steward workshop
DESCRIPTION:A Texas Watershed Steward workshop is set for 8:30 a.m.-12:30 p.m. July 17 in Weslaco. The workshop is part of efforts by the Texas Water Resources Institute (TWRI)\, a Texan by Nature conservation partner\, to improve and protect water quality in the Arroyo Colorado. The free workshop will be at the Texas A&M AgriLife Research and Extension Center\, 2401 U.S. Business Highway 83. It will be presented by Texas A&M AgriLife Extension Service and the Texas State Soil and Water Conservation Board in cooperation with TWRI. A free lunch will be provided by the Arroyo Colorado Conservancy for attendees who preregister for the workshop by July 15. "This workshop is designed to help watershed residents improve and protect their water resources by becoming involved in local watershed protection and management activities\," said Michael Kuitu\, AgriLife Extension program specialist and coordinator for the Texas Watershed Steward program\, College Station. "The workshop is free and open to anyone interested in improving water quality in the region." Participants are encouraged to preregister at the Texas Watershed Steward website. The workshop will include discussions on watershed systems\, types and sources of water pollution and ways to improve and protect water quality. There also will be a group discussion on community-driven watershed protection and management.  For all media inquiries: Kathy Wythe Communications Manager kwythe@tamu.edu 979-845-1862
X-ALT-DESC;FMTTYPE=text/html:A Texas Watershed Steward workshop is set for 8:30 a.m.-12:30 p.m. July 17 in Weslaco. The workshop is part of efforts by the Texas Water Resources Institute (TWRI)\, a Texan by Nature conservation partner\, to improve and protect water quality in the Arroyo Colorado. The free workshop will be at the Texas A&amp\;M AgriLife Research and Extension Center\, 2401 U.S. Business Highway 83. It will be presented by Texas A&amp\;M AgriLife Extension Service and the Texas State Soil and Water Conservation Board in cooperation with TWRI. A free lunch will be provided by the Arroyo Colorado Conservancy for attendees who preregister for the workshop by July 15. &ldquo\;This workshop is designed to help watershed residents improve and protect their water resources by becoming involved in local watershed protection and management activities\,&rdquo\; said Michael Kuitu\, AgriLife Extension program specialist and coordinator for the Texas Watershed Steward program\, College Station. &ldquo\;The workshop is free and open to anyone interested in improving water quality in the region.&rdquo\; Participants are encouraged to preregister at the Texas Watershed Steward website. The workshop will include discussions on watershed systems\, types and sources of water pollution and ways to improve and protect water quality. There also will be a group discussion on community-driven watershed protection and management.&nbsp\; For all media inquiries: Kathy Wythe Communications Manager kwythe@tamu.edu 979-845-1862
LOCATION:Texas A&M AgriLife Research and Extension Center 2401 U.S. Business Highway 83\, Weslaco\, TX
UID:e.1244.18694
SEQUENCE:3
DTSTAMP:20260420T080111Z
URL:https://business.weslaco.com/events/details/texas-watershed-steward-workshop-18694
END:VEVENT

END:VCALENDAR
