BEGIN:VCALENDAR
VERSION:2.0
PRODID:-//ChamberMaster//Event Calendar 2.0//EN
METHOD:PUBLISH
X-PUBLISHED-TTL:P3D
REFRESH-INTERVAL:P3D
CALSCALE:GREGORIAN
BEGIN:VEVENT
DTSTART:20141127T170000Z
DTEND:20141128T050000Z
X-MICROSOFT-CDO-ALLDAYEVENT:FALSE
SUMMARY:Thanksgiving at Applebee's
DESCRIPTION:Applebee's is open on Thanksgiving 11am to 11pm\, and  making a full dinner to serve you! Join us for turkey dinner or have a snack after the game. We have our full menu available and a featured holiday entr e with all the fixings for only $11.99. Select half price appetizers from 3p-6p and after 9p. All our normal specials are still available so plan for some wings for 45cents and drink specials all day. Let us do all the work\, while you spend time with your friends and family.\n\nAvailable at RMH Franchise Applebee's locations only.
X-ALT-DESC;FMTTYPE=text/html:Applebee&#39\;s is open on Thanksgiving 11am to 11pm\, and&nbsp\; making a full dinner to serve you! Join us for turkey dinner or have a snack after the game. We have our full menu available and a featured holiday entr&eacute\;e with all the fixings for only $11.99. Select half price appetizers from 3p-6p and after 9p. All our normal specials are still available so plan for some wings for 45cents and drink specials all day. Let us do all the work\, while you spend time with your friends and family.<br />\nAvailable at RMH Franchise Applebee&#39\;s locations only.
LOCATION:1829 W. Expressway 83 Weslaco\, TX
UID:e.1244.5981
SEQUENCE:3
DTSTAMP:20260424T033606Z
URL:https://business.weslaco.com/events/details/thanksgiving-at-applebee-s-11-27-2014-5981
END:VEVENT

END:VCALENDAR
