BEGIN:VCALENDAR
VERSION:2.0
PRODID:-//ChamberMaster//Event Calendar 2.0//EN
METHOD:PUBLISH
X-PUBLISHED-TTL:P3D
REFRESH-INTERVAL:P3D
CALSCALE:GREGORIAN
BEGIN:VEVENT
DTSTART:20160312T140000Z
DTEND:20160312T170000Z
X-MICROSOFT-CDO-ALLDAYEVENT:FALSE
SUMMARY:The Arch Rivals: Heroes vs. Villains 5K
DESCRIPTION:Weslaco ISD and City of Weslaco present the Arch Rivals: Heroes Vs. Villains 5K Fun Run/Walk.  Enjoy information booths\, fun activities and Zumba by Mighty Joe's Gym Dolls.  Dress up as your favorite hero or villain!
X-ALT-DESC;FMTTYPE=text/html:Weslaco ISD and City of Weslaco present the Arch Rivals: Heroes Vs. Villains 5K Fun Run/Walk. &nbsp\;Enjoy information booths\, fun activities and Zumba by Mighty Joe&#39\;s Gym Dolls. &nbsp\;Dress up as your favorite hero or villain!&nbsp\;&nbsp\;&nbsp\;&nbsp\;&nbsp\;
LOCATION:Gibson Park 301 S. Border
UID:e.1244.10933
SEQUENCE:3
DTSTAMP:20260423T023652Z
URL:https://business.weslaco.com/events/details/the-arch-rivals-heroes-vs-villains-5k-03-12-2016-10933
END:VEVENT

END:VCALENDAR
