BEGIN:VCALENDAR
VERSION:2.0
PRODID:-//ChamberMaster//Event Calendar 2.0//EN
METHOD:PUBLISH
X-PUBLISHED-TTL:P3D
REFRESH-INTERVAL:P3D
CALSCALE:GREGORIAN
BEGIN:VEVENT
DTSTART:20170408T150000Z
DTEND:20170408T163000Z
X-MICROSOFT-CDO-ALLDAYEVENT:FALSE
SUMMARY:The Easter Lily Story: Children's Painting Class at Frontera Audubon
DESCRIPTION:As spring joyfully arrives brilliant blue skies and vast green fields come to life. Peering from the rich soil an Easter Lily opens with beauty. The Easter Lily Story is one such special story for a very special time of the year.
X-ALT-DESC;FMTTYPE=text/html:As spring joyfully arrives brilliant blue skies and vast green fields come to life. Peering from the rich soil an Easter Lily opens with beauty. The Easter Lily Story is one such special story for a very special time of the year.<br />\n<br />\n&nbsp\;
LOCATION:1101 S. Texas Blvd. Weslaco\, TX
UID:e.1244.11955
SEQUENCE:3
DTSTAMP:20260422T053420Z
URL:https://business.weslaco.com/events/details/the-easter-lily-story-children-s-painting-class-at-frontera-audubon-11955
END:VEVENT

END:VCALENDAR
