BEGIN:VCALENDAR
VERSION:2.0
PRODID:-//ChamberMaster//Event Calendar 2.0//EN
METHOD:PUBLISH
X-PUBLISHED-TTL:P3D
REFRESH-INTERVAL:P3D
CALSCALE:GREGORIAN
BEGIN:VEVENT
DTSTART:20211008T220000Z
DTEND:20211009T030000Z
X-MICROSOFT-CDO-ALLDAYEVENT:FALSE
SUMMARY:The Eatery: Oktoberfest & Night Market
DESCRIPTION:
X-ALT-DESC;FMTTYPE=text/html:
LOCATION:
UID:e.1244.20385
SEQUENCE:3
DTSTAMP:20260422T051517Z
URL:https://business.weslaco.com/events/details/the-eatery-oktoberfest-night-market-20385
END:VEVENT

END:VCALENDAR
