BEGIN:VCALENDAR
VERSION:2.0
PRODID:-//ChamberMaster//Event Calendar 2.0//EN
METHOD:PUBLISH
X-PUBLISHED-TTL:P3D
REFRESH-INTERVAL:P3D
CALSCALE:GREGORIAN
BEGIN:VEVENT
DTSTART:20200129T140000Z
DTEND:20200129T213000Z
X-MICROSOFT-CDO-ALLDAYEVENT:FALSE
SUMMARY:The Future of Healthcare by The Texas Tribune
DESCRIPTION:Come hear from lawmakers\, thought leaders and medical professionals on issues of health care in Texas. This event is free\, open-to-the-public\, and includes a light breakfast and lunch. Find more details and RSVP at texastribune.org/events
X-ALT-DESC;FMTTYPE=text/html:Come hear from lawmakers\, thought leaders and medical professionals on issues of health care in Texas. This event is free\, open-to-the-public\, and includes a light breakfast and lunch. Find more details and RSVP at texastribune.org/events
LOCATION:Edinburg Conference Center at Renaissance 118 Paseo Del Prado Edinburg\, TX 78539
UID:e.1244.18843
SEQUENCE:3
DTSTAMP:20260420T000400Z
URL:https://business.weslaco.com/events/details/the-future-of-healthcare-by-the-texas-tribune-18843
END:VEVENT

END:VCALENDAR
