BEGIN:VCALENDAR
VERSION:2.0
PRODID:-//ChamberMaster//Event Calendar 2.0//EN
METHOD:PUBLISH
X-PUBLISHED-TTL:P3D
REFRESH-INTERVAL:P3D
CALSCALE:GREGORIAN
BEGIN:VEVENT
DTSTART:20141210T230000Z
DTEND:20141211T010000Z
X-MICROSOFT-CDO-ALLDAYEVENT:FALSE
SUMMARY:The Gardens at Brook Ridge Holiday Mixer
DESCRIPTION:The Gardens at Brook Ridge is now open! Spread some holiday cheer and sample a delicious menu prepared by Chef Dustin.
X-ALT-DESC;FMTTYPE=text/html:The Gardens at Brook Ridge is now open! Spread some holiday cheer and sample a delicious menu prepared by Chef Dustin.
LOCATION:The Gardens at Brook Ridge 1201 W. Ridge Rd. Pharr\, TX
UID:e.1244.6001
SEQUENCE:3
DTSTAMP:20260424T021101Z
URL:https://business.weslaco.com/events/details/the-gardens-at-brook-ridge-holiday-mixer-12-10-2014-6001
END:VEVENT

END:VCALENDAR
