BEGIN:VCALENDAR
VERSION:2.0
PRODID:-//ChamberMaster//Event Calendar 2.0//EN
METHOD:PUBLISH
X-PUBLISHED-TTL:P3D
REFRESH-INTERVAL:P3D
CALSCALE:GREGORIAN
BEGIN:VEVENT
DTSTART:20140925T213000Z
DTEND:20140926T000000Z
X-MICROSOFT-CDO-ALLDAYEVENT:FALSE
SUMMARY:The Gardens at Brook Ridge Networking Event
DESCRIPTION:Professional networking mixer with local business professionals.  Plus\, enjoy a variety of authentic Mexican tapas prepared by Chef Dustin.
X-ALT-DESC;FMTTYPE=text/html:Professional networking mixer with local business professionals. &nbsp\;Plus\, enjoy a variety&nbsp\;of authentic Mexican tapas prepared by Chef Dustin.
LOCATION:1201 W. Ridge Pharr\, TX 78577
UID:e.1244.5946
SEQUENCE:3
DTSTAMP:20260424T070119Z
URL:https://business.weslaco.com/events/details/the-gardens-at-brook-ridge-networking-event-09-25-2014-5946
END:VEVENT

END:VCALENDAR
