BEGIN:VCALENDAR
VERSION:2.0
PRODID:-//ChamberMaster//Event Calendar 2.0//EN
METHOD:PUBLISH
X-PUBLISHED-TTL:P3D
REFRESH-INTERVAL:P3D
CALSCALE:GREGORIAN
BEGIN:VEVENT
DTSTART:20190209T010000Z
DTEND:20190209T033500Z
X-MICROSOFT-CDO-ALLDAYEVENT:FALSE
SUMMARY:The Kitchen Witches - Live at the Tower
DESCRIPTION:The Kitchen Witches\n\nIsobel Lomax and Dolly Biddle are two ?mature? cable-access cooking show hostesses who have hated each other for thirty years\, ever since Larry Biddle dated one and married the other. When circumstances put them together on a TV show called The Kitchen Witches\, the insults are flung harder than the food! Dolly?s long-suffering TV-producer son\, Stephen\, tries to keep them on track\, but as long as Dolly?s dressing room is one inch closer to the set than Isobel?s\, it?s a losing battle\, and the show becomes a ratings smash as Dolly and Isobel top both Martha Stewart and Jerry Springer!\n\n\n\nGeneral Admission $10.00\n\nPreferred Seating $15.00\n\n\n\nGeneral admission tickets available here on Facebook or www.iloveit.live.\n\n\n\nGeneral admission tickets also available for sale at:\n\nWells of Weslaco\n\n&\n\nWeslaco Museum\n\n\n\nThank you for supporting the arts in the RGV!
X-ALT-DESC;FMTTYPE=text/html:<span>The Kitchen Witches<br />\nIsobel Lomax and Dolly Biddle are two ?mature? cable-access cooking show hostesses who have hated each other for thirty years\, ever since Larry Biddle dated one and married the other. When circumstances put them together on a TV show called The Kitchen Witches\, the insults are flung harder than the food! Dolly?s long-suffering TV-producer son\, Stephen\, tries to keep them on track\, but as long as Dolly?s dressing room is one inch closer to the set than Isobel?s\, it?s a losing battle\, and the show becomes a ratings smash as Dolly and Isobel top both Martha Stewart and Jerry Springer!<br />\n<br />\nGeneral Admission $10.00<br />\nPreferred Seating $15.00<br />\n<br />\nGeneral admission tickets available here on Facebook or <a data-lynx-mode="hover" href="https://l.facebook.com/l.php?u=http%3A%2F%2Fwww.iloveit.live%2F%3Ffbclid%3DIwAR2tgAGhtkdM_jkFPIhWjOni8dJPY6twlIDgV95odrjxcfgzxx4XFcmUF4M&amp\;h=AT39HAMa-vmn473LhpuoXUXqm90XrdpXysdwIy24_Uvs68i8DC6x7_CB8E0QUhiycsIh_sTWQq-XvgF0yo-_7RqRMEWF_PnRYQFEV2nXWXc8l8FNmnz69oSQ_z4SQ1ksmbXb" rel="nofollow noopener" target="_blank">www.iloveit.live.</a><br />\n<br />\nGeneral admission tickets also available for sale at:<br />\nWells of Weslaco<br />\n&amp\;<br />\nWeslaco Museum<br />\n<br />\nThank you for supporting the arts in the RGV!</span>
LOCATION:ITheatre at The Tower 120 S Kansas Ave\, Weslaco\, Texas 78596
UID:e.1244.17085
SEQUENCE:3
DTSTAMP:20260420T162805Z
URL:https://business.weslaco.com/events/details/the-kitchen-witches-live-at-the-tower-17085
END:VEVENT

END:VCALENDAR
