BEGIN:VCALENDAR
VERSION:2.0
PRODID:-//ChamberMaster//Event Calendar 2.0//EN
METHOD:PUBLISH
X-PUBLISHED-TTL:P3D
REFRESH-INTERVAL:P3D
CALSCALE:GREGORIAN
BEGIN:VEVENT
DTSTART:20190819T150000Z
DTEND:20190819T160000Z
X-MICROSOFT-CDO-ALLDAYEVENT:FALSE
SUMMARY:The Makeup Studio by Trinidad Ribbon Cutting
DESCRIPTION:
X-ALT-DESC;FMTTYPE=text/html:
LOCATION:202 N. Kansas Weslaco\, TX
UID:e.1244.18725
SEQUENCE:3
DTSTAMP:20260420T062432Z
URL:https://business.weslaco.com/events/details/the-makeup-studio-by-trinidad-ribbon-cutting-18725
END:VEVENT

END:VCALENDAR
