BEGIN:VCALENDAR
VERSION:2.0
PRODID:-//ChamberMaster//Event Calendar 2.0//EN
METHOD:PUBLISH
X-PUBLISHED-TTL:P3D
REFRESH-INTERVAL:P3D
CALSCALE:GREGORIAN
BEGIN:VEVENT
DTSTART:20160519T230000Z
DTEND:20160520T010000Z
X-MICROSOFT-CDO-ALLDAYEVENT:FALSE
SUMMARY:The Market at Weslaco
DESCRIPTION:The WOW Coalition aims to increase access to healthy food and physical activity in Weslaco.  The coalitions are community-based and include members from a range of backgrounds.  Coalition members meet periodically to identify opportunities for activities and develop a plan of action.\n\nThe following vendors and organizations will be participating on May 19th:  Tio Roberto's Sweet Heat\, Norm's Produce on Wheels\, Texas A&M School of Public Health\, Texas A&M AgriLife Extension\, Estero Llano Grande State Park\, Frontera Audubon\, and Valley Nature Center.
X-ALT-DESC;FMTTYPE=text/html:<span style="font-family:arial\;">The WOW Coalition aims to increase access to healthy food and physical activity in Weslaco.&nbsp\; The coalitions are community-based and include members from a range of backgrounds.&nbsp\; Coalition members meet periodically to identify opportunities for activities and develop a plan of action.<br />\nThe following vendors and organizations will be participating on May 19<sup>th</sup>:&nbsp\; Tio Roberto&rsquo\;s Sweet Heat\, Norm&rsquo\;s Produce on Wheels\, Texas A&amp\;M School of Public Health\, Texas A&amp\;M AgriLife Extension\, Estero Llano Grande State Park\, Frontera Audubon\, and Valley Nature Center. &nbsp\;</span>
LOCATION:Bobby Lackey Stadium parking lot\, northwest corner
UID:e.1244.10960
SEQUENCE:3
DTSTAMP:20260422T233158Z
URL:https://business.weslaco.com/events/details/the-market-at-weslaco-05-19-2016-10960
END:VEVENT

END:VCALENDAR
