BEGIN:VCALENDAR
VERSION:2.0
PRODID:-//ChamberMaster//Event Calendar 2.0//EN
METHOD:PUBLISH
X-PUBLISHED-TTL:P3D
REFRESH-INTERVAL:P3D
CALSCALE:GREGORIAN
BEGIN:VEVENT
DTSTART:20151206T210000Z
DTEND:20151206T230000Z
X-MICROSOFT-CDO-ALLDAYEVENT:FALSE
SUMMARY:The Mid-Valley Civic Theatre presents Sweet Adelines
DESCRIPTION:This well known chorus of women sing some Christmas favorites plus a few new jokes to add to the fun.
X-ALT-DESC;FMTTYPE=text/html:This well known chorus of women sing some Christmas favorites plus a few new jokes to add to the fun. &nbsp\; &nbsp\;
LOCATION:Tower Theatre of Weslaco 120 S. Kansas Avenue
UID:e.1244.9047
SEQUENCE:3
DTSTAMP:20260423T084738Z
URL:https://business.weslaco.com/events/details/the-mid-valley-civic-theatre-presents-sweet-adelines-12-06-2015-9047
END:VEVENT

END:VCALENDAR
