BEGIN:VCALENDAR
VERSION:2.0
PRODID:-//ChamberMaster//Event Calendar 2.0//EN
METHOD:PUBLISH
X-PUBLISHED-TTL:P3D
REFRESH-INTERVAL:P3D
CALSCALE:GREGORIAN
BEGIN:VEVENT
DTSTART:20171010T190000Z
DTEND:20171010T201500Z
X-MICROSOFT-CDO-ALLDAYEVENT:FALSE
SUMMARY:The Nature Moods: Kids Painting Class at Frontera Audubon
DESCRIPTION:**This series is geared towards home-schooled children\, classes will be held during the week. Diane Roman-Goldsberry will also have a Saturday painting class once a month as usual.**\n\n\n\nPainting the Nature Moods:\n\nThe most important watercolor painting exercises\n\nare the Nature Moods. When painting these exercises\, the children experience examples of how color processes are also nature processes. This helps them to connect with the world around them in a very real and truthful way.\n\n\n\nArt and nature are expressions of each other and belong together. When children experience painting as a nature process they form a direct creative link with the world around them. Our nature mood painting exercises bring these experiences to the children.\n\n\n\nWe will have classes for children ages 6 to 10 years old here at Frontera Audubon. The classes are limited to seven children and reservations are required.\n\n\n\n*SPACE IS LIMITED | MUST PRE-REGISTER!*\n\nTo register please send your child's name\, age\, and a parent/guardians name and contact info to FronteraNature@gmail.com.\n\n\n\n*These classes are sponsored by the Raphael Cultural and Artistic Research Association\, Inc*
X-ALT-DESC;FMTTYPE=text/html:<span class="_4n-j _3cht fsl" data-testid="event-permalink-details">**This series is geared towards home-schooled children\, classes will be held during the week. Diane Roman-Goldsberry will also have a Saturday painting class once a month as usual.**<br />\n<br />\nPainting the Nature Moods:<br />\nThe most important watercolor painting exercises<br />\nare the Nature Moods. When painting these exercises\, the children experience examples of how color processes are also nature processes. This helps them to connect with the world around them in a very real and truthful way.<br />\n<br />\nArt and nature are expressions of each other and belong together. When children experience painting as a nature process they form a direct creative link with the world around them. Our nature mood painting exercises bring these experi<span class="text_exposed_show">ences to the children.<br />\n<br />\nWe will have classes for children ages 6 to 10 years old here at Frontera Audubon. The classes are limited to seven children and reservations are required.<br />\n<br />\n*SPACE IS LIMITED | MUST PRE-REGISTER!*<br />\nTo register please send your child&#39\;s name\, age\, and a parent/guardians name and contact info to FronteraNature@gmail.com.<br />\n<br />\n*These classes are sponsored by the Raphael Cultural and Artistic Research Association\, Inc*</span></span>
LOCATION:Frontera Audubon 1101 S. Texas Blvd. Weslaco
UID:e.1244.14409
SEQUENCE:3
DTSTAMP:20260421T203440Z
URL:https://business.weslaco.com/events/details/the-nature-moods-kids-painting-class-at-frontera-audubon-10-10-2017-14409
END:VEVENT

END:VCALENDAR
