BEGIN:VCALENDAR
VERSION:2.0
PRODID:-//ChamberMaster//Event Calendar 2.0//EN
METHOD:PUBLISH
X-PUBLISHED-TTL:P3D
REFRESH-INTERVAL:P3D
CALSCALE:GREGORIAN
BEGIN:VEVENT
DTSTART:20181030T190000Z
DTEND:20181030T201500Z
X-MICROSOFT-CDO-ALLDAYEVENT:FALSE
SUMMARY:The Nature Moods: Kids Painting Class at Frontera Audubon
DESCRIPTION:Painting the Nature Moods:\n\nThe most important watercolor painting exercises are the Nature Moods. When painting these exercises\, the children experience examples of how color processes are also nature processes. This helps them to connect with the world around them in a very real and truthful way.\n\n \n\nArt and nature are expressions of each other and belong together. When children experience painting as a nature process they form a direct creative link with the world around them. Our nature mood painting exercises bring these experiences to the children.\n\nDiane Roman-Goldsberry trained for over five years in this method of painting in Switzerland and delights in sharing these painting experiences with children in story form and color exercises. She has been teaching painting to children and adults since 2004. The classes are limited to seven children and reservations are required.\n\n\n	This is an ongoing program at Frontera Audubon.\n	Class will be held once a week | Thursdays afternoon from 2 - 3:15 pm\n	SPACE IS LIMITED | MUST PRE-REGISTER!*\n\n\nTo register please send your child's name\, age\, and a parent/guardians name and contact info to FronteraNature@gmail.com.
X-ALT-DESC;FMTTYPE=text/html:<p>Painting the Nature Moods:<br />\nThe most important watercolor painting exercises are the Nature Moods. When painting these exercises\, the children experience examples of how color processes are also nature processes. This helps them to connect with the world around them in a very real and truthful way.<br />\n&nbsp\;<br />\nArt and nature are expressions of each other and belong together. When children experience painting as a nature process they form a direct creative link with the world around them. Our nature mood painting exercises bring these experiences to the children.<br />\nDiane Roman-Goldsberry trained for over five years in this method of painting in Switzerland and delights in sharing these painting experiences with children in story form and color exercises. She has been teaching painting to children and adults since 2004. The classes are limited to seven children and reservations are required.</p>\n\n<ul>\n	<li>This is an ongoing program at Frontera Audubon.</li>\n	<li>Class will be held once a week | Thursdays afternoon from 2 - 3:15 pm</li>\n	<li>SPACE IS LIMITED | MUST PRE-REGISTER!*</li>\n</ul>\n\n<p><span style="font-family:calibri\,sans-serif\;"><span style="font-size:11.0pt\;">To register please send your child&#39\;s name\, age\, and a parent/guardians name and contact info to FronteraNature@gmail.com.</span></span></p>\n
LOCATION:1101 S. Texas Blvd. Weslaco\, TX
UID:e.1244.14517
SEQUENCE:3
DTSTAMP:20260421T005919Z
URL:https://business.weslaco.com/events/details/the-nature-moods-kids-painting-class-at-frontera-audubon-10-30-2018-14517
END:VEVENT

END:VCALENDAR
