BEGIN:VCALENDAR
VERSION:2.0
PRODID:-//ChamberMaster//Event Calendar 2.0//EN
METHOD:PUBLISH
X-PUBLISHED-TTL:P3D
REFRESH-INTERVAL:P3D
CALSCALE:GREGORIAN
BEGIN:VEVENT
DTSTART:20170812T150000Z
DTEND:20170812T161500Z
X-MICROSOFT-CDO-ALLDAYEVENT:FALSE
SUMMARY:The Nature Moods: Kids Painting Class at Frontera Audubon
DESCRIPTION:Price: $10\n\n*For ages 6-10 only*\n\n**Space is limited\, must pre-register!**\n\n\n\nTo register please send an email to FronteraNature@gmail.com with your child(rens) name\, age & your contact info.
X-ALT-DESC;FMTTYPE=text/html:<span class="_4n-j _3cht fsl" data-testid="event-permalink-details">Price: $10<br />\n*For ages 6-10 only*<br />\n**Space is limited\, must pre-register!**<br />\n<br />\nTo register please send an email to FronteraNature@gmail.com with your child(rens) name\, age &amp\; your contact info.</span>
LOCATION:1101 S. Texas Blvd. Weslaco\, TX
UID:e.1244.12780
SEQUENCE:3
DTSTAMP:20260421T221147Z
URL:https://business.weslaco.com/events/details/the-nature-moods-kids-painting-class-at-frontera-audubon-12780
END:VEVENT

END:VCALENDAR
