BEGIN:VCALENDAR
VERSION:2.0
PRODID:-//ChamberMaster//Event Calendar 2.0//EN
METHOD:PUBLISH
X-PUBLISHED-TTL:P3D
REFRESH-INTERVAL:P3D
CALSCALE:GREGORIAN
BEGIN:VEVENT
DTSTART:20181008T223000Z
DTEND:20181009T003000Z
X-MICROSOFT-CDO-ALLDAYEVENT:FALSE
SUMMARY:The Other Guys Pharmacy Ribbon Cutting & Grand Opening
DESCRIPTION:Bring the family and enjoy free food\, giveaways\, prizes and a moonjump for the kids!
X-ALT-DESC;FMTTYPE=text/html:Bring the family and enjoy free food\, giveaways\, prizes and a moonjump for the kids!
LOCATION:1116 E. 8th St\, Weslaco\, TX
UID:e.1244.16985
SEQUENCE:3
DTSTAMP:20260420T232527Z
URL:https://business.weslaco.com/events/details/the-other-guys-pharmacy-ribbon-cutting-grand-opening-16985
END:VEVENT

END:VCALENDAR
