BEGIN:VCALENDAR
VERSION:2.0
PRODID:-//ChamberMaster//Event Calendar 2.0//EN
METHOD:PUBLISH
X-PUBLISHED-TTL:P3D
REFRESH-INTERVAL:P3D
CALSCALE:GREGORIAN
BEGIN:VEVENT
DTSTART:20161210T160000Z
DTEND:20161210T173000Z
X-MICROSOFT-CDO-ALLDAYEVENT:FALSE
SUMMARY:The Poinsettia: Children's Painting Class at Frontera Audubon
DESCRIPTION:Stories and legends help the imagination to grow. The legend of the poinsettia is a wonderful reminder of the great gift of the Christmas Season. In the painting exercise\, we will see nature unfold its beautiful gift in the form of the poinsettia flower. We will also learn about the development of this wildflower into the magnificent flowers seen at Christmas time.
X-ALT-DESC;FMTTYPE=text/html:<span class="_4n-j fsl">Stories and legends help the imagination to grow. The legend of the poinsettia is a wonderful reminder of the great gift of the Christmas Season. In the painting exercise\, we will see nature unfold its beautiful gift in the form of the poinsettia flower. We will also learn about the development of this wildflower into the magnificent flowers seen at Christmas time.</span><br />\n<br />\n<br />\n&nbsp\;
LOCATION:1101 S. Texas Blvd. Weslaco\, TX
UID:e.1244.11407
SEQUENCE:3
DTSTAMP:20260422T115921Z
URL:https://business.weslaco.com/events/details/the-poinsettia-children-s-painting-class-at-frontera-audubon-11407
END:VEVENT

END:VCALENDAR
