BEGIN:VCALENDAR
VERSION:2.0
PRODID:-//ChamberMaster//Event Calendar 2.0//EN
METHOD:PUBLISH
X-PUBLISHED-TTL:P3D
REFRESH-INTERVAL:P3D
CALSCALE:GREGORIAN
BEGIN:VEVENT
DTSTART:20170330T210000Z
DTEND:20170330T230000Z
X-MICROSOFT-CDO-ALLDAYEVENT:FALSE
SUMMARY:Thursday Fish Fry at Grande Cafe
DESCRIPTION:All-you-can-eat fried and baked fish buffet\, coffee or iced tea included
X-ALT-DESC;FMTTYPE=text/html:All-you-can-eat fried and baked fish buffet\, coffee or iced tea included
LOCATION:Grande Cafe (inside the Hynes Event Center) Llano Grande Lake Park Resort 2215 E. West Blvd. Mercedes\, TX 78570
UID:e.1244.11484
SEQUENCE:3
DTSTAMP:20260422T084228Z
URL:https://business.weslaco.com/events/details/thursday-fish-fry-at-grande-cafe-03-30-2017-11484
END:VEVENT

END:VCALENDAR
