BEGIN:VCALENDAR
VERSION:2.0
PRODID:-//ChamberMaster//Event Calendar 2.0//EN
METHOD:PUBLISH
X-PUBLISHED-TTL:P3D
REFRESH-INTERVAL:P3D
CALSCALE:GREGORIAN
BEGIN:VEVENT
DTSTART:20220610T150000Z
DTEND:20220610T160000Z
X-MICROSOFT-CDO-ALLDAYEVENT:FALSE
SUMMARY:Tierra Santa Golf & Event Center: Ribbon Cutting-Tony's Grill
DESCRIPTION:RESCHEDULED
X-ALT-DESC;FMTTYPE=text/html:RESCHEDULED<br>\n&nbsp\;
LOCATION:Tierra Santa Golf & Event Center Weslaco\, TX
UID:e.1244.20651
SEQUENCE:3
DTSTAMP:20260421T140328Z
URL:https://business.weslaco.com/events/details/tierra-santa-golf-event-center-ribbon-cutting-tony-s-grill-20651
END:VEVENT

END:VCALENDAR
