BEGIN:VCALENDAR
VERSION:2.0
PRODID:-//ChamberMaster//Event Calendar 2.0//EN
METHOD:PUBLISH
X-PUBLISHED-TTL:P3D
REFRESH-INTERVAL:P3D
CALSCALE:GREGORIAN
BEGIN:VEVENT
DTSTART:20181008T230000Z
DTEND:20181009T000000Z
X-MICROSOFT-CDO-ALLDAYEVENT:FALSE
SUMMARY:Toastmasters International Demonstration Meeting
DESCRIPTION:Reach your personal and professional goals through Pathways\, Toastmasters' new education program. Build the real-world skills you're looking for with a user-friendly online learning experience you can customzie to fit your needs:\n\n- Choose from 10 unique learning paths\n\n- Build skills that transfer to your career and beyond\n\n- Learn at your own pace\n\n- Enjoy engaging videos and digital content\n\n- Particpate in interactive quizzes and activities\n\n- Receive feedback and recognition\n\n\n\nLearn more at toastmasters.org/pathways.\n\n \n\nFor more information\, contact Mel Escamilla at 956-854-4534.
X-ALT-DESC;FMTTYPE=text/html:<p>Reach your personal and professional goals through Pathways\, Toastmasters&#39\; new education program. Build the real-world skills you&#39\;re looking for with a user-friendly online learning experience you can customzie to fit your needs:<br />\n- Choose from 10 unique learning paths<br />\n- Build skills that transfer to your career and beyond<br />\n- Learn at your own pace<br />\n- Enjoy engaging videos and digital content<br />\n- Particpate in interactive quizzes and activities<br />\n- Receive feedback and recognition<br />\n<br />\nLearn more at toastmasters.org/pathways.</p>\n\n<p>&nbsp\;</p>\n\n<p>For more information\, contact Mel Escamilla at 956-854-4534.<br />\n&nbsp\;</p>\n
LOCATION:Knapp Medical Conference Center Room #7 1401 E. 8th (on west side of the hospital)
UID:e.1244.16978
SEQUENCE:3
DTSTAMP:20260421T005428Z
URL:https://business.weslaco.com/events/details/toastmasters-international-demonstration-meeting-16978
END:VEVENT

END:VCALENDAR
