BEGIN:VCALENDAR
VERSION:2.0
PRODID:-//ChamberMaster//Event Calendar 2.0//EN
METHOD:PUBLISH
X-PUBLISHED-TTL:P3D
REFRESH-INTERVAL:P3D
CALSCALE:GREGORIAN
BEGIN:VEVENT
DTSTART:20200604T150000Z
DTEND:20200604T210000Z
X-MICROSOFT-CDO-ALLDAYEVENT:FALSE
SUMMARY:Together We Can Blood Drive at Bert Ogden Arena
DESCRIPTION:Visit www.bloodhero.com to schedule your appointment.
X-ALT-DESC;FMTTYPE=text/html:Visit www.bloodhero.com to schedule your appointment.
LOCATION:Bert Ogden Arena 4900 S. I-69C Edinburg\, TX 78539
UID:e.1244.19383
SEQUENCE:3
DTSTAMP:20260419T142540Z
URL:https://business.weslaco.com/events/details/together-we-can-blood-drive-at-bert-ogden-arena-19383
END:VEVENT

END:VCALENDAR
