BEGIN:VCALENDAR
VERSION:2.0
PRODID:-//ChamberMaster//Event Calendar 2.0//EN
METHOD:PUBLISH
X-PUBLISHED-TTL:P3D
REFRESH-INTERVAL:P3D
CALSCALE:GREGORIAN
BEGIN:VEVENT
DTSTART:20160211T160000Z
DTEND:20160211T170000Z
X-MICROSOFT-CDO-ALLDAYEVENT:FALSE
SUMMARY:Tom's Automotive and Golf Carts Ribbon Cutting
DESCRIPTION:
X-ALT-DESC;FMTTYPE=text/html:
LOCATION:1802 N. International Blvd. Weslaco\, TX
UID:e.1244.9113
SEQUENCE:3
DTSTAMP:20260423T040812Z
URL:https://business.weslaco.com/events/details/tom-s-automotive-and-golf-carts-ribbon-cutting-02-11-2016-9113
END:VEVENT

END:VCALENDAR
