BEGIN:VCALENDAR
VERSION:2.0
PRODID:-//ChamberMaster//Event Calendar 2.0//EN
METHOD:PUBLISH
X-PUBLISHED-TTL:P3D
REFRESH-INTERVAL:P3D
CALSCALE:GREGORIAN
BEGIN:VEVENT
DTSTART:20180928T163000Z
DTEND:20180928T173000Z
X-MICROSOFT-CDO-ALLDAYEVENT:FALSE
SUMMARY:Tortilleria Valentina Ribbon Cutting
DESCRIPTION:
X-ALT-DESC;FMTTYPE=text/html:
LOCATION:604 N. Texas Blvd. Weslaco\, TX 78596
UID:e.1244.16974
SEQUENCE:3
DTSTAMP:20260421T005709Z
URL:https://business.weslaco.com/events/details/tortilleria-valentina-ribbon-cutting-16974
END:VEVENT

END:VCALENDAR
